Workbook

Sheet Dashboard
A1: WKN | B1: Firma | C1: WKN | D1: Firma | E1: Produkt | F1: Bewertungstage | G1: Rückzahlungslevel | H1: Kuponschwelle | I1: Nächster Kupontermin | J1: Resttage Kupon | K1: Fälligkeit | L1: Restlaufzeit (Jahr/Monat/Tag) | M1: Ampel
A2: DJ03P9 | B2: Volkswagen | C2: DJ03P9 | D2: Volkswagen | E2: Memory Express Airbag | H2: 81.606 | I2: =MIN(IF(Kupontermine!A$2:A$20>TODAY(),Kupontermine!A$2:A$20)) -> 46545 | J2: =IF(I2="","",I2-TODAY()) -> 359 | K2: 47270 | L2: =IF(K2="","",DATEDIF(TODAY(),K2,"Y")&" J "&DATEDIF(TODAY(),K2,"YM")&" M "&DATEDIF(TODAY(),K2,"MD")&" T") -> 2 J 11 M 19 T | M2: =IF(J2<30,"ROT",IF(J2<90,"GELB","GRÜN")) -> GRÜN | N2: Ampel
A3: DJ1MZT | B3: Mercedes-Benz Group | C3: DJ1MZT | D3: Mercedes-Benz Group | E3: Memory Express Airbag | H3: 51.569 | I3: =MIN(IF(Kupontermine!B$2:B$20>TODAY(),Kupontermine!B$2:B$20)) -> 46210 | J3: =IF(I3="","",I3-TODAY()) -> 24 | K3: 47301 | L3: =IF(K3="","",DATEDIF(TODAY(),K3,"Y")&" J "&DATEDIF(TODAY(),K3,"YM")&" M "&DATEDIF(TODAY(),K3,"MD")&" T") -> 3 J 0 M 19 T | M3: =IF(J3<30,"ROT",IF(J3<90,"GELB","GRÜN")) -> ROT | N3: >30% = Grün
A4: DJ19CA | B4: Infineon | C4: DJ19CA | D4: Infineon | E4: Memory Express Airbag | H4: 30 | I4: =MIN(IF(Kupontermine!C$2:C$20>TODAY(),Kupontermine!C$2:C$20)) -> 46241 | J4: =IF(I4="","",I4-TODAY()) -> 55 | K4: 47330 | L4: =IF(K4="","",DATEDIF(TODAY(),K4,"Y")&" J "&DATEDIF(TODAY(),K4,"YM")&" M "&DATEDIF(TODAY(),K4,"MD")&" T") -> 3 J 1 M 18 T | M4: =IF(J4<30,"ROT",IF(J4<90,"GELB","GRÜN")) -> GELB | N4: 15-30% = Gelb
A5: DJ19B5 | B5: BASF Memory | C5: DJ19B5 | D5: BASF Memory | E5: Memory Express Airbag | H5: 39.016 | I5: =MIN(IF(Kupontermine!D$2:D$20>TODAY(),Kupontermine!D$2:D$20)) -> 46241 | J5: =IF(I5="","",I5-TODAY()) -> 55 | K5: 47330 | L5: =IF(K5="","",DATEDIF(TODAY(),K5,"Y")&" J "&DATEDIF(TODAY(),K5,"YM")&" M "&DATEDIF(TODAY(),K5,"MD")&" T") -> 3 J 1 M 18 T | M5: =IF(J5<30,"ROT",IF(J5<90,"GELB","GRÜN")) -> GELB | N5: <15% = Rot
A6: DJ8LHD | B6: Mercedes-Benz Group | C6: DJ8LHD | D6: Mercedes-Benz Group | E6: ZinsFix Express Classic | F6: 46179 | G6: 64.108 | I6: =MIN(IF(Kupontermine!E$2:E$20>TODAY(),Kupontermine!E$2:E$20)) -> 0 | L6: =IF(K6="","",DATEDIF(TODAY(),K6,"Y")&" J "&DATEDIF(TODAY(),K6,"YM")&" M "&DATEDIF(TODAY(),K6,"MD")&" T")
A7: DTR0CK | B7: Daimler Truck Holding AG | C7: DTR0CK | D7: Daimler Truck Holding AG | E7: Aktie | J7: =IF(I7="","",I7-TODAY()) | L7: =IF(K7="","",DATEDIF(TODAY(),K7,"Y")&" J "&DATEDIF(TODAY(),K7,"YM")&" M "&DATEDIF(TODAY(),K7,"MD")&" T")
A8: 710000 | B8: Mercedes-Benz Group AG | C8: 710000 | D8: Mercedes-Benz Group AG | E8: Aktie | J8: =IF(I8="","",I8-TODAY()) | L8: =IF(K8="","",DATEDIF(TODAY(),K8,"Y")&" J "&DATEDIF(TODAY(),K8,"YM")&" M "&DATEDIF(TODAY(),K8,"MD")&" T")
J9: =IF(I9="","",I9-TODAY()) | L9: =IF(K9="","",DATEDIF(TODAY(),K9,"Y")&" J "&DATEDIF(TODAY(),K9,"YM")&" M "&DATEDIF(TODAY(),K9,"MD")&" T")

Sheet Kupontermine
A1: DJ03P9 | B1: DJ1MZT | C1: DJ19CA | D1: DJ19B5 | E1: DJ8LHD
A2: 46545 | B2: 46210 | C2: 46241 | D2: 46241 | E2: 46179
A3: 46545 | B3: 46575 | C3: 46608 | D3: 46608
A4: 46911 | B4: 46210 | C4: 46972 | D4: 46972
A5: 47277 | B5: 46212 | C5: 47337 | D5: 47337
